Workbook
Name propHomesSince2002: 'Draught Stripping'!$B$18
Name propGasRegular: Assumptions!$B$42
Name VulnerableHouseholdsLikely: Assumptions!$D$31
Name numOtherElectricHeatersEngland: Assumptions!$C$94
Name MeanDomesticOilBill: Assumptions!$B$54
Name Therm1CSaving: Assumptions!$D$77
Name MeanOilBill2022: Assumptions!$B$55
Name propTolerantShorterHeatingSeasonHigh: 'Shorter Heating Season'!$D$48
Name gasBillPropSpace: Assumptions!$B$41
Name carbonGasPerGWh: Assumptions!$B$6
Name carbonElectricityPerkWh: Assumptions!$B$7
Name YearTotalDD: 'Shorter Heating Season'!$B$16
Name propOtherElectricHeatersEngland: Assumptions!$B$94
Name DDFactorLow: 'Shorter Heating Season'!$B$25
Name ReduceTherm1Clow: 'Reduce Room Thermostat'!$G$23
Name ReduceTherm2Clikely: 'Reduce Room Thermostat'!$I$24
Name numStorageHeatersEngland: Assumptions!$C$93
Name PropGasBillDuetoSpHeating: 'Shorter Heating Season'!$B$27
Name kwhPerKtoe: Assumptions!$B$4
Name numberDwellingsUK: Assumptions!$B$19
Name DDFactorHigh: 'Shorter Heating Season'!$D$25
Name TotalStorageHeaters: Assumptions!$C$126
Name propTolerantShorterHeatingSeasonLow: 'Shorter Heating Season'!$B$48
Name TotalGasBoilers: Assumptions!$C$124
Name TotalDomesticElecHeating: Assumptions!$C$128
Name propStorageHeatersEngland: Assumptions!$B$93
Name ReduceTherm2Clow: 'Reduce Room Thermostat'!$G$24
Name MeanElectricHeatingBill2022: Assumptions!$B$70
Name propHomesGasHeating: Assumptions!$B$43
Name NewTotalDomesticGasKwh: Assumptions!$B$35
Name SelectedPricePeriod: Tariffs!$B$10
Name numberHomesOtherElectricHeaters: Assumptions!$B$66
Name Therm2CSavingLow: 'Reduce Room Thermostat'!$G$24
Name MeanTotalDomesticGasBill2022: Assumptions!$B$40
Name numberHomesGasHeating: Assumptions!$B$38
Name ReduceTherm1Clikely: 'Reduce Room Thermostat'!$I$23
Name gasStandingCharge: Tariffs!$E$11
Name oilBillPropSpace: Assumptions!$B$56
Name VulnerableHouseholdsHigh: Assumptions!$C$31
Name PropAlreadyDraughts: 'Draught Stripping'!$B$19
Name ReduceTherm1Chigh: 'Reduce Room Thermostat'!$H$23
Name TotalOtherElectrickWh: Assumptions!$B$72
Name carbonElectricitryPerkWh: Assumptions!$B$7
Name propTherm18OKLikely: 'Reduce Room Thermostat'!$D$18
Name numberHomesOilHeating: Assumptions!$B$52
Name propTherm19OKLow: 'Reduce Room Thermostat'!$B$17
Name TotalOtherElectricHeaters: Assumptions!$C$127
Name NewHomesLowFlowBoilers: 'Reducing radiator temp'!$C$110
Name propTherm19OKHigh: 'Reduce Room Thermostat'!$C$17
Name MeanElectricBill2022: Assumptions!$B$70
Name propTherm19OKLikely: 'Reduce Room Thermostat'!$D$17
Name kwhPerToe: Assumptions!$B$3
Name OffPeakTariff: Tariffs!$B$39
Name propTolerantShorterHeatingSeasonMedium: 'Shorter Heating Season'!$C$48
Name propOilRegular: Assumptions!$B$57
Name elecPricePerkWh: Tariffs!$B$11
Name propHomesCentralTherm: 'Reduce Room Thermostat'!$D$25
Name propTherm18OKHigh: 'Reduce Room Thermostat'!$C$18
Name carbonGasTperGWh: Assumptions!$B$6
Name propTherm18OKLow: 'Reduce Room Thermostat'!$B$18

Sheet Cover sheet
K3: These energy-saving estimates were originally assembled by Cambridge Architectural Research in August-September 2022, under contract to Nesta, the UK innovation agency for social good. This work built on the work CAR carried out for the Department of Energy and Climate Change (now DESNZ) in 2012. NESTA commissioned CAR to revise the estimates in June-July 2026, to coincide with Ofgem's higher energy-price caps. We reveiwed and incorporated new evidence, updated methods, and revised housing and population data to reflect the larger, slightly more energy efficiency housing stock. Note that all of the estimates have been revised, and these findings are not directly comparable to earlier work. In all cases, per-dwelling energy savings are estimated using the best-available evidence, supplemented by modelling and explicit assumptions that are recorded in the worksheets here. In many cases the evidence base is limited, and likely to improve over time. This workbook is intended to be updated iteratively over time as more evidence becomes available. There is more information about the Cambridge Housing Model, used as a starting point for some of the estimates, here: http://tinyurl.com/HousingFactFile There is also more information about CODE, the Cost-Optimal Domestic Electrification model, which is also used for some estimates, here: https://www.gov.uk/government/publications/cost-optimal-domestic-electrification-code CAR's original work quantifying energy-saving behaviours is available here: https://www.gov.uk/government/publications/how-much-energy-could-be-saved-by-making-small-changes-to-everyday-household-behaviours Our original work for NESTA is available here: https://www.nesta.org.uk/report/free-and-low-cost-energy-saving-actions-to-bring-down-bills-improve-energy-security-and-help-the-planet/
K9: Worksheets | L9: Overview
K10: Summary | L10: An overview of our findings, drawing information from all other sheets
K11: Packages | L11: Illustrative packages of multiple energy-saving actions. Note that in most cases savings cannot be simply added together.
K12: Other sheets | L12: Detailed discussion and calculations behind each of the Energy-Saving Actions listed in the Summary sheet

Sheet Packages
A1: PACKAGES OF MEASURES
B4: Bill savings per household kWh/year (gas) | E4: Bill savings per household kWh/year (oil) *** | I4: Multiplication factor for bill
B5: Low | C5: Medium | D5: High | E5: Low | F5: Medium | G5: High | I5: Low | J5: Medium | K5: High
A6: No upfront cost (Combi boiler)
A7: Reduce flow temperature to 60°C * | B7: {=INDEX(Summary!B$5:B$44,MATCH($M7,Summary!$A$5:$A$44,0))} -> 470 | C7: {=INDEX(Summary!C$5:C$44,MATCH($M7,Summary!$A$5:$A$44,0))} -> 720 | D7: {=INDEX(Summary!D$5:D$44,MATCH($M7,Summary!$A$5:$A$44,0))} -> 800 | E7: {=INDEX(Summary!E$5:E$44,MATCH($M7,Summary!$A$5:$A$44,0))} -> 0 | F7: {=INDEX(Summary!F$5:F$44,MATCH($M7,Summary!$A$5:$A$44,0))} -> 0 | G7: {=INDEX(Summary!G$5:G$44,MATCH($M7,Summary!$A$5:$A$44,0))} -> 0 | H7: {=INDEX(Summary!AJ$5:AJ$44,MATCH($M7,Summary!$A$5:$A$44,0))} -> Multiply | I7: =IF($H7="Multiply",(1-B7/MeanDomesticGasBill),1) -> 0.95241073 | J7: =IF($H7="Multiply",(1-C7/MeanDomesticGasBill),1) -> 0.92709729 | K7: =IF($H7="Multiply",(1-D7/MeanDomesticGasBill),1) -> 0.91899699 | M7: … to Flow 60°C (lower indoor temp) | P7: *Note that oil boilers do not benefit in the same way as gas boilers from lower flow temperatures, so there are no savings.
A8: Close curtains at night | B8: {=INDEX(Summary!B$5:B$44,MATCH($M8,Summary!$A$5:$A$44,0))} -> 30 | C8: {=INDEX(Summary!C$5:C$44,MATCH($M8,Summary!$A$5:$A$44,0))} -> 90 | D8: {=INDEX(Summary!D$5:D$44,MATCH($M8,Summary!$A$5:$A$44,0))} -> 180 | E8: {=INDEX(Summary!E$5:E$44,MATCH($M8,Summary!$A$5:$A$44,0))} -> 50 | F8: {=INDEX(Summary!F$5:F$44,MATCH($M8,Summary!$A$5:$A$44,0))} -> 160 | G8: {=INDEX(Summary!G$5:G$44,MATCH($M8,Summary!$A$5:$A$44,0))} -> 300 | H8: {=INDEX(Summary!AJ$5:AJ$44,MATCH($M8,Summary!$A$5:$A$44,0))} -> Add | I8: =IF($H8="Multiply",(1-B8/MeanDomesticGasBill),1) -> 1 | J8: =IF($H8="Multiply",(1-C8/MeanDomesticGasBill),1) -> 1 | K8: =IF($H8="Multiply",(1-D8/MeanDomesticGasBill),1) -> 1 | M8: Closing curtains at night
A9: Turn off pre-heat facility | B9: {=INDEX(Summary!$B$5:B$44,MATCH($M9,Summary!$A$5:$A$44,0))} -> 2.5735294 | C9: {=INDEX(Summary!C$5:C$44,MATCH($M9,Summary!$A$5:$A$44,0))} -> 92.647059 | D9: {=INDEX(Summary!D$5:D$44,MATCH($M9,Summary!$A$5:$A$44,0))} -> 466.66667 | E9: {=INDEX(Summary!E$5:E$44,MATCH($M9,Summary!$A$5:$A$44,0))} -> 0 | F9: {=INDEX(Summary!F$5:F$44,MATCH($M9,Summary!$A$5:$A$44,0))} -> 0 | G9: {=INDEX(Summary!G$5:G$44,MATCH($M9,Summary!$A$5:$A$44,0))} -> 0 | H9: {=INDEX(Summary!AJ$5:AJ$44,MATCH($M9,Summary!$A$5:$A$44,0))} -> Add | I9: =IF($H9="Multiply",(1-B9/MeanDomesticGasBill),1) -> 1 | J9: =IF($H9="Multiply",(1-C9/MeanDomesticGasBill),1) -> 1 | K9: =IF($H9="Multiply",(1-D9/MeanDomesticGasBill),1) -> 1 | M9: Turn off pre-heat facility
A10: Readjusting existing TRVs outside the living room to 1.5°C cooler than before | B10: {=INDEX(Summary!B$5:B$44,MATCH($M10,Summary!$A$5:$A$44,0))} -> 0 | C10: {=INDEX(Summary!C$5:C$44,MATCH($M10,Summary!$A$5:$A$44,0))} -> 510 | D10: {=INDEX(Summary!D$5:D$44,MATCH($M10,Summary!$A$5:$A$44,0))} -> 1010 | E10: {=INDEX(Summary!E$5:E$44,MATCH($M10,Summary!$A$5:$A$44,0))} -> 0 | F10: {=INDEX(Summary!F$5:F$44,MATCH($M10,Summary!$A$5:$A$44,0))} -> 850 | G10: {=INDEX(Summary!G$5:G$44,MATCH($M10,Summary!$A$5:$A$44,0))} -> 1700 | H10: {=INDEX(Summary!AJ$5:AJ$44,MATCH($M10,Summary!$A$5:$A$44,0))} -> Multiply | I10: =IF($H10="Multiply",(1-B10/MeanDomesticGasBill),1) -> 1 | J10: =IF($H10="Multiply",(1-C10/MeanDomesticGasBill),1) -> 0.94836058 | K10: =IF($H10="Multiply",(1-D10/MeanDomesticGasBill),1) -> 0.8977337 | M10: Readjusting existing TRVs outside the living room to 1.5°C cooler than before
A12: Sum of added measures** | B12: =SUMIFS(B7:B10,$H7:$H10,"Add") -> 32.573529 | C12: =SUMIFS(C7:C10,$H7:$H10,"Add") -> 182.64706 | D12: =SUMIFS(D7:D10,$H7:$H10,"Add") -> 646.66667 | E12: =SUMIFS(E7:E10,$H7:$H10,"Add") -> 50 | F12: =SUMIFS(F7:F10,$H7:$H10,"Add") -> 160 | G12: =SUMIFS(G7:G10,$H7:$H10,"Add") -> 300 | H12: kWh | P12: **Since pre-heat savings do not apply to oil boilers, the pattern of added measures follows a different pattern from other combinations of measures.
A13: Multiply factor, after adding savings, for measures combined by adding together | B13: =1-B12/MeanDomesticGasBill -> 0.99670181 | C13: =1-C12/MeanDomesticGasBill -> 0.9815063 | D13: =1-D12/MeanDomesticGasBill -> 0.93452257 | E13: =1-E12/MeanDomesticOilBill -> 0.99698576 | F13: =1-F12/MeanDomesticOilBill -> 0.99035444 | G13: =1-G12/MeanDomesticOilBill -> 0.98191458
A14: Apply multiplicative savings | B14: =PRODUCT(B13,I7:I10) -> 0.9492695 | C14: =PRODUCT(C13,J7:J10) -> 0.86296245 | D14: =PRODUCT(D13,K7:K10) -> 0.77099473 | E14: =PRODUCT(E13,I7:I10) -> 0.94953994 | F14: =PRODUCT(F13,J7:J10) -> 0.87074194 | G14: =PRODUCT(G13,K7:K10) -> 0.81009384
A15: Bill savings as proportion of bill | B15: =1-B14 -> 0.050730502 | C15: =1-C14 -> 0.13703755 | D15: =1-D14 -> 0.22900527 | E15: =1-E14 -> 0.050460059 | F15: =1-F14 -> 0.12925806 | G15: =1-G14 -> 0.18990616 | H15: %
A16: Resulting savings | B16: =ROUND(MeanDomesticGasBill*(1-B14)*gasPricePerkWh/100,-1) -> 40 | C16: =ROUND(MeanDomesticGasBill*(1-C14)*gasPricePerkWh/100,-1) -> 110 | D16: =ROUND(MeanDomesticGasBill*(1-D14)*gasPricePerkWh/100,-1) -> 180 | E16: =ROUND(MeanDomesticGasBill*(1-E14)*oilPricePerkWh/100,-1) -> 50 | F16: =ROUND(MeanDomesticGasBill*(1-F14)*oilPricePerkWh/100,-1) -> 120 | G16: =ROUND(MeanDomesticGasBill*(1-G14)*oilPricePerkWh/100,-1) -> 180
A18: No upfront cost (System boiler)
A19: Reducing the cylinder temperature to 60°C | B19: {=INDEX(Summary!B$5:B$44,MATCH($M19,Summary!$A$5:$A$44,0))} -> 80 | C19: {=INDEX(Summary!C$5:C$44,MATCH($M19,Summary!$A$5:$A$44,0))} -> 230 | D19: {=INDEX(Summary!D$5:D$44,MATCH($M19,Summary!$A$5:$A$44,0))} -> 390 | E19: {=INDEX(Summary!E$5:E$44,MATCH($M19,Summary!$A$5:$A$44,0))} -> 230 | F19: {=INDEX(Summary!F$5:F$44,MATCH($M19,Summary!$A$5:$A$44,0))} -> 430 | G19: {=INDEX(Summary!G$5:G$44,MATCH($M19,Summary!$A$5:$A$44,0))} -> 590 | H19: {=INDEX(Summary!AJ$5:AJ$44,MATCH($M19,Summary!$A$5:$A$44,0))} -> Add | I19: =IF($H19="Multiply",(1-E19/MeanDomesticGasBill),1) -> 1 | J19: =IF($H19="Multiply",(1-F19/MeanDomesticGasBill),1) -> 1 | K19: =IF($H19="Multiply",(1-G19/MeanDomesticGasBill),1) -> 1 | M19: Reducing the cylinder temperature to 60°C
A20: Close curtains at night | B20: {=INDEX(Summary!B$5:B$44,MATCH($M20,Summary!$A$5:$A$44,0))} -> 30 | C20: {=INDEX(Summary!C$5:C$44,MATCH($M20,Summary!$A$5:$A$44,0))} -> 90 | D20: {=INDEX(Summary!D$5:D$44,MATCH($M20,Summary!$A$5:$A$44,0))} -> 180 | E20: {=INDEX(Summary!E$5:E$44,MATCH($M20,Summary!$A$5:$A$44,0))} -> 50 | F20: {=INDEX(Summary!F$5:F$44,MATCH($M20,Summary!$A$5:$A$44,0))} -> 160 | G20: {=INDEX(Summary!G$5:G$44,MATCH($M20,Summary!$A$5:$A$44,0))} -> 300 | H20: {=INDEX(Summary!AJ$5:AJ$44,MATCH($M20,Summary!$A$5:$A$44,0))} -> Add | I20: =IF($H20="Multiply",(1-E20/MeanDomesticGasBill),1) -> 1 | J20: =IF($H20="Multiply",(1-F20/MeanDomesticGasBill),1) -> 1 | K20: =IF($H20="Multiply",(1-G20/MeanDomesticGasBill),1) -> 1 | M20: Closing curtains at night
A21: Readjusting existing TRVs outside the living room to 1.5°C cooler than before | B21: {=INDEX(Summary!B$5:B$44,MATCH($M21,Summary!$A$5:$A$44,0))} -> 0 | C21: {=INDEX(Summary!C$5:C$44,MATCH($M21,Summary!$A$5:$A$44,0))} -> 510 | D21: {=INDEX(Summary!D$5:D$44,MATCH($M21,Summary!$A$5:$A$44,0))} -> 1010 | E21: {=INDEX(Summary!E$5:E$44,MATCH($M21,Summary!$A$5:$A$44,0))} -> 0 | F21: {=INDEX(Summary!F$5:F$44,MATCH($M21,Summary!$A$5:$A$44,0))} -> 850 | G21: {=INDEX(Summary!G$5:G$44,MATCH($M21,Summary!$A$5:$A$44,0))} -> 1700 | H21: {=INDEX(Summary!AJ$5:AJ$44,MATCH($M21,Summary!$A$5:$A$44,0))} -> Multiply | I21: =IF($H21="Multiply",(1-B21/MeanDomesticGasBill),1) -> 1 | J21: =IF($H21="Multiply",(1-C21/MeanDomesticGasBill),1) -> 0.94836058 | K21: =IF($H21="Multiply",(1-D21/MeanDomesticGasBill),1) -> 0.8977337 | M21: Readjusting existing TRVs outside the living room to 1.5°C cooler than before
A23: Sum of added measures | B23: =SUMIFS(B19:B21,$H19:$H21,"Add") -> 110 | C23: =SUMIFS(C19:C21,$H19:$H21,"Add") -> 320 | D23: =SUMIFS(D19:D21,$H19:$H21,"Add") -> 570 | E23: =SUMIFS(E19:E21,$H19:$H21,"Add") -> 280 | F23: =SUMIFS(F19:F21,$H19:$H21,"Add") -> 590 | G23: =SUMIFS(G19:G21,$H19:$H21,"Add") -> 890 | H23: kWh
A24: =A13 -> Multiply factor, after adding savings, for measures combined by adding together | B24: =1-B23/MeanDomesticGasBill -> 0.98886209 | C24: =1-C23/MeanDomesticGasBill -> 0.9675988 | D24: =1-D23/MeanDomesticGasBill -> 0.94228536 | E24: =1-E23/MeanDomesticOilBill -> 0.98312028 | F24: =1-F23/MeanDomesticOilBill -> 0.96443201 | G24: =1-G23/MeanDomesticOilBill -> 0.94634659
A25: =A14 -> Apply multiplicative savings | B25: =PRODUCT(B24,I19:I21) -> 0.98886209 | C25: =PRODUCT(C24,J19:J21) -> 0.91763256 | D25: =PRODUCT(D24,K19:K21) -> 0.84592132 | E25: =PRODUCT(E24,I19:I21) -> 0.98312028 | F25: =PRODUCT(F24,J19:J21) -> 0.9146293 | G25: =PRODUCT(G24,K19:K21) -> 0.84956723
A26: =A15 -> Bill savings as proportion of bill | B26: =1-B25 -> 0.011137914 | C26: =1-C25 -> 0.082367442 | D26: =1-D25 -> 0.15407868 | E26: =1-E25 -> 0.016879723 | F26: =1-F25 -> 0.085370696 | G26: =1-G25 -> 0.15043277 | H26: %
A27: Resulting savings | B27: =ROUND(MeanDomesticGasBill*(1-B25)*gasPricePerkWh/100,-1) -> 10 | C27: =ROUND(MeanDomesticGasBill*(1-C25)*gasPricePerkWh/100,-1) -> 60 | D27: =ROUND(MeanDomesticGasBill*(1-D25)*gasPricePerkWh/100,-1) -> 120 | E27: =ROUND(MeanDomesticGasBill*(1-E25)*oilPricePerkWh/100,-1) -> 20 | F27: =ROUND(MeanDomesticGasBill*(1-F25)*oilPricePerkWh/100,-1) -> 80 | G27: =ROUND(MeanDomesticGasBill*(1-G25)*oilPricePerkWh/100,-1) -> 140
A29: Thermal comfort
A30: Upgrade loft insulation from 50-100 mm to 300mm | B30: {=INDEX(Summary!B$5:B$44,MATCH($M30,Summary!$A$5:$A$44,0))} -> 540 | C30: {=INDEX(Summary!C$5:C$44,MATCH($M30,Summary!$A$5:$A$44,0))} -> 710 | D30: {=INDEX(Summary!D$5:D$44,MATCH($M30,Summary!$A$5:$A$44,0))} -> 800 | E30: {=INDEX(Summary!E$5:E$44,MATCH($M30,Summary!$A$5:$A$44,0))} -> 880 | F30: {=INDEX(Summary!F$5:F$44,MATCH($M30,Summary!$A$5:$A$44,0))} -> 1150 | G30: {=INDEX(Summary!G$5:G$44,MATCH($M30,Summary!$A$5:$A$44,0))} -> 1290 | H30: {=INDEX(Summary!AJ$5:AJ$44,MATCH($M30,Summary!$A$5:$A$44,0))} -> Add | I30: =IF($H30="Multiply",(1-B30/MeanDomesticGasBill),1) -> 1 | J30: =IF($H30="Multiply",(1-C30/MeanDomesticGasBill),1) -> 1 | K30: =IF($H30="Multiply",(1-D30/MeanDomesticGasBill),1) -> 1 | M30: 50-100 to 300mm*
A31: Install smart thermostat | B31: {=INDEX(Summary!B$5:B$44,MATCH($M31,Summary!$A$5:$A$44,0))} -> 220 | C31: {=INDEX(Summary!C$5:C$44,MATCH($M31,Summary!$A$5:$A$44,0))} -> 480 | D31: {=INDEX(Summary!D$5:D$44,MATCH($M31,Summary!$A$5:$A$44,0))} -> 740 | E31: {=INDEX(Summary!E$5:E$44,MATCH($M31,Summary!$A$5:$A$44,0))} -> 400 | F31: {=INDEX(Summary!F$5:F$44,MATCH($M31,Summary!$A$5:$A$44,0))} -> 870 | G31: {=INDEX(Summary!G$5:G$44,MATCH($M31,Summary!$A$5:$A$44,0))} -> 1340 | H31: {=INDEX(Summary!AJ$5:AJ$44,MATCH($M31,Summary!$A$5:$A$44,0))} -> Multiply | I31: =IF($H31="Multiply",(1-B31/MeanDomesticGasBill),1) -> 0.97772417 | J31: =IF($H31="Multiply",(1-C31/MeanDomesticGasBill),1) -> 0.95139819 | K31: =IF($H31="Multiply",(1-D31/MeanDomesticGasBill),1) -> 0.92507222 | M31: Smart thermostats (e.g. NEST)
A32: Add window film to all windows | B32: {=INDEX(Summary!B$5:B$44,MATCH($M32,Summary!$A$5:$A$44,0))} -> 250 | C32: {=INDEX(Summary!C$5:C$44,MATCH($M32,Summary!$A$5:$A$44,0))} -> 380 | D32: {=INDEX(Summary!D$5:D$44,MATCH($M32,Summary!$A$5:$A$44,0))} -> 500 | E32: {=INDEX(Summary!E$5:E$44,MATCH($M32,Summary!$A$5:$A$44,0))} -> 440 | F32: {=INDEX(Summary!F$5:F$44,MATCH($M32,Summary!$A$5:$A$44,0))} -> 650 | G32: {=INDEX(Summary!G$5:G$44,MATCH($M32,Summary!$A$5:$A$44,0))} -> 860 | H32: {=INDEX(Summary!AJ$5:AJ$44,MATCH($M32,Summary!$A$5:$A$44,0))} -> Add | I32: =IF($H32="Multiply",(1-B32/MeanDomesticGasBill),1) -> 1 | J32: =IF($H32="Multiply",(1-C32/MeanDomesticGasBill),1) -> 1 | K32: =IF($H32="Multiply",(1-D32/MeanDomesticGasBill),1) -> 1 | M32: Add window film to all windows
A33: Reduce flow temperature to 60C (efficiency only) | B33: {=INDEX(Summary!B$5:B$44,MATCH($M33,Summary!$A$5:$A$44,0))} -> 220 | C33: {=INDEX(Summary!C$5:C$44,MATCH($M33,Summary!$A$5:$A$44,0))} -> 320 | D33: {=INDEX(Summary!D$5:D$44,MATCH($M33,Summary!$A$5:$A$44,0))} -> 420 | E33: {=INDEX(Summary!E$5:E$44,MATCH($M33,Summary!$A$5:$A$44,0))} -> 0 | F33: {=INDEX(Summary!F$5:F$44,MATCH($M33,Summary!$A$5:$A$44,0))} -> 0 | G33: {=INDEX(Summary!G$5:G$44,MATCH($M33,Summary!$A$5:$A$44,0))} -> 0 | H33: {=INDEX(Summary!AJ$5:AJ$44,MATCH($M33,Summary!$A$5:$A$44,0))} -> Multiply | I33: =IF($H33="Multiply",(1-B33/MeanDomesticGasBill),1) -> 0.97772417 | J33: =IF($H33="Multiply",(1-C33/MeanDomesticGasBill),1) -> 0.9675988 | K33: =IF($H33="Multiply",(1-D33/MeanDomesticGasBill),1) -> 0.95747342 | M33: … to Flow 60°C (same indoor temp)
A35: =A23 -> Sum of added measures | B35: =SUMIFS(B30:B33,$H30:$H33,"Add") -> 790 | C35: =SUMIFS(C30:C33,$H30:$H33,"Add") -> 1090 | D35: =SUMIFS(D30:D33,$H30:$H33,"Add") -> 1300 | E35: =SUMIFS(E30:E33,$H30:$H33,"Add") -> 1320 | F35: =SUMIFS(F30:F33,$H30:$H33,"Add") -> 1800 | G35: =SUMIFS(G30:G33,$H30:$H33,"Add") -> 2150 | H35: kWh
A36: =A24 -> Multiply factor, after adding savings, for measures combined by adding together | B36: =1-B35/MeanDomesticGasBill -> 0.92000953 | C36: =1-C35/MeanDomesticGasBill -> 0.8896334 | D36: =1-D35/MeanDomesticGasBill -> 0.86837011 | E36: =1-E35/MeanDomesticOilBill -> 0.92042416 | F36: =1-F35/MeanDomesticOilBill -> 0.8914875 | G36: =1-G35/MeanDomesticOilBill -> 0.87038784
A37: =A25 -> Apply multiplicative savings | B37: =PRODUCT(B36,I30:I33) -> 0.8794781 | C37: =PRODUCT(C36,J30:J33) -> 0.81897137 | D37: =PRODUCT(D36,K30:K33) -> 0.76914325 | E37: =PRODUCT(E36,I30:I33) -> 0.87987447 | F37: =PRODUCT(F36,J30:J33) -> 0.8206782 | G37: =PRODUCT(G36,K30:K33) -> 0.77093042
A38: =A26 -> Bill savings as proportion of bill | B38: =1-B37 -> 0.1205219 | C38: =1-C37 -> 0.18102863 | D38: =1-D37 -> 0.23085675 | E38: =1-E37 -> 0.12012553 | F38: =1-F37 -> 0.1793218 | G38: =1-G37 -> 0.22906958 | H38: %
A39: Resulting savings | B39: =ROUND(MeanDomesticGasBill*(1-B37)*gasPricePerkWh/100,-1) -> 90 | C39: =ROUND(MeanDomesticGasBill*(1-C37)*gasPricePerkWh/100,-1) -> 140 | D39: =ROUND(MeanDomesticGasBill*(1-D37)*gasPricePerkWh/100,-1) -> 180 | E39: =ROUND(MeanDomesticGasBill*(1-E37)*oilPricePerkWh/100,-1) -> 110 | F39: =ROUND(MeanDomesticGasBill*(1-F37)*oilPricePerkWh/100,-1) -> 170 | G39: =ROUND(MeanDomesticGasBill*(1-G37)*oilPricePerkWh/100,-1) -> 220
A41: High bill savings (Combi Boiler)
A42: Install TRVs and ajust them to 3°C cooler outside the living room | B42: {=INDEX(Summary!B$5:B$44,MATCH($M42,Summary!$A$5:$A$44,0))} -> 690 | C42: {=INDEX(Summary!C$5:C$44,MATCH($M42,Summary!$A$5:$A$44,0))} -> 1010 | D42: {=INDEX(Summary!D$5:D$44,MATCH($M42,Summary!$A$5:$A$44,0))} -> 1330 | E42: {=INDEX(Summary!E$5:E$44,MATCH($M42,Summary!$A$5:$A$44,0))} -> 1160 | F42: {=INDEX(Summary!F$5:F$44,MATCH($M42,Summary!$A$5:$A$44,0))} -> 1700 | G42: {=INDEX(Summary!G$5:G$44,MATCH($M42,Summary!$A$5:$A$44,0))} -> 2240 | H42: {=INDEX(Summary!AJ$5:AJ$44,MATCH($M42,Summary!$A$5:$A$44,0))} -> Multiply | I42: =IF($H42="Multiply",(1-B42/MeanDomesticGasBill),1) -> 0.9301349 | J42: =IF($H42="Multiply",(1-C42/MeanDomesticGasBill),1) -> 0.8977337 | K42: =IF($H42="Multiply",(1-D42/MeanDomesticGasBill),1) -> 0.8653325 | M42: Starting from all rooms at the same temperature, adjust TRVs to 3°C cooler outside the living room
A43: Install smart thermostat | B43: {=INDEX(Summary!B$5:B$44,MATCH($M43,Summary!$A$5:$A$44,0))} -> 220 | C43: {=INDEX(Summary!C$5:C$44,MATCH($M43,Summary!$A$5:$A$44,0))} -> 480 | D43: {=INDEX(Summary!D$5:D$44,MATCH($M43,Summary!$A$5:$A$44,0))} -> 740 | E43: {=INDEX(Summary!E$5:E$44,MATCH($M43,Summary!$A$5:$A$44,0))} -> 400 | F43: {=INDEX(Summary!F$5:F$44,MATCH($M43,Summary!$A$5:$A$44,0))} -> 870 | G43: {=INDEX(Summary!G$5:G$44,MATCH($M43,Summary!$A$5:$A$44,0))} -> 1340 | H43: {=INDEX(Summary!AJ$5:AJ$44,MATCH($M43,Summary!$A$5:$A$44,0))} -> Multiply | I43: =IF($H43="Multiply",(1-B43/MeanDomesticGasBill),1) -> 0.97772417 | J43: =IF($H43="Multiply",(1-C43/MeanDomesticGasBill),1) -> 0.95139819 | K43: =IF($H43="Multiply",(1-D43/MeanDomesticGasBill),1) -> 0.92507222 | M43: Smart thermostats (e.g. NEST)
A44: Upgrade loft insulation from 50-100 mm to 300mm | B44: {=INDEX(Summary!B$5:B$44,MATCH($M44,Summary!$A$5:$A$44,0))} -> 540 | C44: {=INDEX(Summary!C$5:C$44,MATCH($M44,Summary!$A$5:$A$44,0))} -> 710 | D44: {=INDEX(Summary!D$5:D$44,MATCH($M44,Summary!$A$5:$A$44,0))} -> 800 | E44: {=INDEX(Summary!E$5:E$44,MATCH($M44,Summary!$A$5:$A$44,0))} -> 880 | F44: {=INDEX(Summary!F$5:F$44,MATCH($M44,Summary!$A$5:$A$44,0))} -> 1150 | G44: {=INDEX(Summary!G$5:G$44,MATCH($M44,Summary!$A$5:$A$44,0))} -> 1290 | H44: {=INDEX(Summary!AJ$5:AJ$44,MATCH($M44,Summary!$A$5:$A$44,0))} -> Add | I44: =IF($H44="Multiply",(1-B44/MeanDomesticGasBill),1) -> 1 | J44: =IF($H44="Multiply",(1-C44/MeanDomesticGasBill),1) -> 1 | K44: =IF($H44="Multiply",(1-D44/MeanDomesticGasBill),1) -> 1 | M44: 50-100 to 300mm*
A45: Reduce flow temperature to 55°C (lower indoor temp) | B45: {=INDEX(Summary!B$5:B$44,MATCH($M45,Summary!$A$5:$A$44,0))} -> 670 | C45: {=INDEX(Summary!C$5:C$44,MATCH($M45,Summary!$A$5:$A$44,0))} -> 1030 | D45: {=INDEX(Summary!D$5:D$44,MATCH($M45,Summary!$A$5:$A$44,0))} -> 1130 | E45: {=INDEX(Summary!E$5:E$44,MATCH($M45,Summary!$A$5:$A$44,0))} -> 0 | F45: {=INDEX(Summary!F$5:F$44,MATCH($M45,Summary!$A$5:$A$44,0))} -> 0 | G45: {=INDEX(Summary!G$5:G$44,MATCH($M45,Summary!$A$5:$A$44,0))} -> 0 | H45: {=INDEX(Summary!AJ$5:AJ$44,MATCH($M45,Summary!$A$5:$A$44,0))} -> Multiply | I45: =IF($H45="Multiply",(1-B45/MeanDomesticGasBill),1) -> 0.93215998 | J45: =IF($H45="Multiply",(1-C45/MeanDomesticGasBill),1) -> 0.89570863 | K45: =IF($H45="Multiply",(1-D45/MeanDomesticGasBill),1) -> 0.88558325 | M45: … to Flow 55°C (lower indoor temp)
A47: Sum of added measures | B47: =SUMIFS(B42:B45,$H42:$H45,"Add") -> 540 | C47: =SUMIFS(C42:C45,$H42:$H45,"Add") -> 710 | D47: =SUMIFS(D42:D45,$H42:$H45,"Add") -> 800 | E47: =SUMIFS(E42:E45,$H42:$H45,"Add") -> 880 | F47: =SUMIFS(F42:F45,$H42:$H45,"Add") -> 1150 | G47: =SUMIFS(G42:G45,$H42:$H45,"Add") -> 1290 | H47: kWh
A48: =A24 -> Multiply factor, after adding savings, for measures combined by adding together | B48: =1-B47/MeanDomesticGasBill -> 0.94532297 | C48: =1-C47/MeanDomesticGasBill -> 0.92810983 | D48: =1-D47/MeanDomesticGasBill -> 0.91899699 | E48: =1-E47/MeanDomesticOilBill -> 0.94694944 | F48: =1-F47/MeanDomesticOilBill -> 0.93067257 | G48: =1-G47/MeanDomesticOilBill -> 0.92223271
A49: =A25 -> Apply multiplicative savings | B49: =PRODUCT(B48,I42:I45) -> 0.80136978 | C49: =PRODUCT(C48,J42:J45) -> 0.71002883 | D49: =PRODUCT(D48,K42:K45) -> 0.65148157 | E49: =PRODUCT(E48,I42:I45) -> 0.80274857 | F49: =PRODUCT(F48,J42:J45) -> 0.71198939 | G49: =PRODUCT(G48,K42:K45) -> 0.65377538
...

Sheet Summary
A2: Activity | B2: Bill savings per participating household kWh/year | K2: Indicative % saving from gas bill (gas only, Medium) | L2: Millions of homes (UK) that can do this | U2: Proportion of dwellings that could adopt the measure | X2: Bill savings per participating household £/year | AA2: UK Stock total carbon savings kt/year | AD2: UK Stock total energy savings TWh/year | AG2: UK Stock total energy savings £ (medium only) | AH2: Comfort improvement | AI2: Evidence base (*=weak, ***=adequate) | AJ2: Add or multiply to calculate packages
B3: Gas | E3: Oil | H3: Electricity | L3: Gas | O3: Oil | R3: Electricity
B4: Low | C4: Medium | D4: High | E4: Low | F4: Medium | G4: High | H4: Low | I4: Medium | J4: High | L4: Low | M4: Medium | N4: High | O4: Low | P4: Medium | Q4: High | R4: Low | S4: Medium | T4: High | U4: Low | V4: Medium | W4: High | X4: Low | Y4: Medium | Z4: High | AA4: Low | AB4: Medium | AC4: High | AD4: Low | AE4: Medium | AF4: High
A5: ='Reducing radiator temp'!A118 -> Reducing radiator temperatures (set and forget)
A6: ='Reducing radiator temp'!A119 -> … to Flow 60°C (same indoor temp) | B6: =ROUND('Reducing radiator temp'!B119,-1) -> 220 | C6: =ROUND('Reducing radiator temp'!C119,-1) -> 320 | D6: =ROUND('Reducing radiator temp'!D119,-1) -> 420 | E6: =ROUND('Reducing radiator temp'!E119,-1) -> 0 | F6: =ROUND('Reducing radiator temp'!F119,-1) -> 0 | G6: =ROUND('Reducing radiator temp'!G119,-1) -> 0 | H6: =ROUND('Reducing radiator temp'!H119,-1) -> 0 | I6: =ROUND('Reducing radiator temp'!I119,-1) -> 0 | J6: =ROUND('Reducing radiator temp'!J119,-1) -> 0 | K6: =C6/MeanDomesticGasBill -> 0.032401204 | L6: ='Reducing radiator temp'!K119/1000 -> 6.4208484 | M6: ='Reducing radiator temp'!L119/1000 -> 7.5176062 | N6: ='Reducing radiator temp'!M119/1000 -> 8.6699137 | O6: ='Reducing radiator temp'!N119/1000 -> 0 | P6: ='Reducing radiator temp'!O119/1000 -> 0 | Q6: ='Reducing radiator temp'!P119/1000 -> 0 | R6: ='Reducing radiator temp'!Q119/1000 -> 0 | S6: ='Reducing radiator temp'!R119/1000 -> 0 | T6: ='Reducing radiator temp'!S119/1000 -> 0 | U6: =(L6+O6+R6)/numberDwellingsUK*1000000 -> 0.20947704 | V6: =(M6+P6+S6)/numberDwellingsUK*1000000 -> 0.24525823 | W6: =(N6+Q6+T6)/numberDwellingsUK*1000000 -> 0.2828517 | X6: =(B6*gasPricePerkWh*L6+E6*oilPriceP*O6+H6*OffPeakTariff*R6)/100/SUM(L6,O6,R6) -> 17.534 | Y6: =(C6*gasPricePerkWh*M6+F6*oilPriceP*P6+I6*OffPeakTariff*S6)/100/SUM(M6,P6,S6) -> 25.504 | Z6: =(D6*gasPricePerkWh*N6+G6*oilPriceP*Q6+J6*OffPeakTariff*T6)/100/SUM(N6,Q6,T6) -> 33.474 | AA6: =(B6*L6*carbonGasPerkWh+E6*O6*carbonOilPerkWh + H6*R6*carbonElectricityPerkWh) -> 258.50336 | AB6: =(C6*M6*carbonGasPerkWh+F6*P6*carbonOilPerkWh + I6*S6*carbonElectricityPerkWh) -> 440.23102 | AC6: =(D6*N6*carbonGasPerkWh+G6*Q6*carbonOilPerkWh + J6*T6*carbonElectricityPerkWh) -> 666.36956 | AD6: =(B6*L6+E6*O6+H6*R6)/1000 -> 1.4125866 | AE6: =(C6*M6+F6*P6+I6*S6)/1000 -> 2.405634 | AF6: =(D6*N6+G6*Q6+J6*T6)/1000 -> 3.6413637 | AG6: =ROUND(10000*(C6*M6*gasPricePerkWh+F6*P6*oilPricePerkWh+I6*S6*OffPeakTariff),-3) -> 191729000 | AH6: ='Reducing radiator temp'!T119 -> - | AI6: ** | AJ6: Multiply
A7: ='Reducing radiator temp'!A120 -> … to Flow 55°C (same indoor temp) | B7: =ROUND('Reducing radiator temp'!B120,-1) -> 310 | C7: =ROUND('Reducing radiator temp'!C120,-1) -> 410 | D7: =ROUND('Reducing radiator temp'!D120,-1) -> 510 | E7: =ROUND('Reducing radiator temp'!E120,-1) -> 0 | F7: =ROUND('Reducing radiator temp'!F120,-1) -> 0 | G7: =ROUND('Reducing radiator temp'!G120,-1) -> 0 | H7: =ROUND('Reducing radiator temp'!H120,-1) -> 0 | I7: =ROUND('Reducing radiator temp'!I120,-1) -> 0 | J7: =ROUND('Reducing radiator temp'!J120,-1) -> 0 | K7: =C7/MeanDomesticGasBill -> 0.041514042 | L7: ='Reducing radiator temp'!K120/1000 -> 5.2456778 | M7: ='Reducing radiator temp'!L120/1000 -> 6.9216086 | N7: ='Reducing radiator temp'!M120/1000 -> 8.8462586 | O7: ='Reducing radiator temp'!N120/1000 -> 0 | P7: ='Reducing radiator temp'!O120/1000 -> 0 | Q7: ='Reducing radiator temp'!P120/1000 -> 0 | R7: ='Reducing radiator temp'!Q120/1000 -> 0 | S7: ='Reducing radiator temp'!R120/1000 -> 0 | T7: ='Reducing radiator temp'!S120/1000 -> 0 | U7: =(L7+O7+R7)/numberDwellingsUK*1000000 -> 0.17113768 | V7: =(M7+P7+S7)/numberDwellingsUK*1000000 -> 0.2258141 | W7: =(N7+Q7+T7)/numberDwellingsUK*1000000 -> 0.28860487 | X7: =(B7*gasPricePerkWh*L7+E7*oilPriceP*O7+H7*OffPeakTariff*R7)/100/SUM(L7,O7,R7) -> 24.707 | Y7: =(C7*gasPricePerkWh*M7+F7*oilPriceP*P7+I7*OffPeakTariff*S7)/100/SUM(M7,P7,S7) -> 32.677 | Z7: =(D7*gasPricePerkWh*N7+G7*oilPriceP*Q7+J7*OffPeakTariff*T7)/100/SUM(N7,Q7,T7) -> 40.647 | AA7: =(B7*L7*carbonGasPerkWh+E7*O7*carbonOilPerkWh + H7*R7*carbonElectricityPerkWh) -> 297.5873 | AB7: =(C7*M7*carbonGasPerkWh+F7*P7*carbonOilPerkWh + I7*S7*carbonElectricityPerkWh) -> 519.3283 | AC7: =(D7*N7*carbonGasPerkWh+G7*Q7*carbonOilPerkWh + J7*T7*carbonElectricityPerkWh) -> 825.62132 | AD7: =(B7*L7+E7*O7+H7*R7)/1000 -> 1.6261601 | AE7: =(C7*M7+F7*P7+I7*S7)/1000 -> 2.8378595 | AF7: =(D7*N7+G7*Q7+J7*T7)/1000 -> 4.5115919 | AG7: =ROUND(10000*(C7*M7*gasPricePerkWh+F7*P7*oilPricePerkWh+I7*S7*OffPeakTariff),-3) -> 226177000 | AH7: ='Reducing radiator temp'!T120 -> - | AI7: ** | AJ7: Multiply
A8: ='Reducing radiator temp'!A121 -> … to Flow 60°C (lower indoor temp) | B8: =ROUND('Reducing radiator temp'!B121,-1) -> 470 | C8: =ROUND('Reducing radiator temp'!C121,-1) -> 720 | D8: =ROUND('Reducing radiator temp'!D121,-1) -> 800 | E8: =ROUND('Reducing radiator temp'!E121,-1) -> 0 | F8: =ROUND('Reducing radiator temp'!F121,-1) -> 0 | G8: =ROUND('Reducing radiator temp'!G121,-1) -> 0 | H8: =ROUND('Reducing radiator temp'!H121,-1) -> 0 | I8: =ROUND('Reducing radiator temp'!I121,-1) -> 0 | J8: =ROUND('Reducing radiator temp'!J121,-1) -> 0 | K8: =C8/MeanDomesticGasBill -> 0.072902708 | L8: ='Reducing radiator temp'!K121/1000 -> 6.4208484 | M8: ='Reducing radiator temp'!L121/1000 -> 7.5176062 | N8: ='Reducing radiator temp'!M121/1000 -> 8.6699137 | O8: ='Reducing radiator temp'!N121/1000 -> 0 | P8: ='Reducing radiator temp'!O121/1000 -> 0 | Q8: ='Reducing radiator temp'!P121/1000 -> 0 | R8: ='Reducing radiator temp'!Q121/1000 -> 0 | S8: ='Reducing radiator temp'!R121/1000 -> 0 | T8: ='Reducing radiator temp'!S121/1000 -> 0 | U8: =(L8+O8+R8)/numberDwellingsUK*1000000 -> 0.20947704 | V8: =(M8+P8+S8)/numberDwellingsUK*1000000 -> 0.24525823 | W8: =(N8+Q8+T8)/numberDwellingsUK*1000000 -> 0.2828517 | X8: =(B8*gasPricePerkWh*L8+E8*oilPriceP*O8+H8*OffPeakTariff*R8)/100/SUM(L8,O8,R8) -> 37.459 | Y8: =(C8*gasPricePerkWh*M8+F8*oilPriceP*P8+I8*OffPeakTariff*S8)/100/SUM(M8,P8,S8) -> 57.384 | Z8: =(D8*gasPricePerkWh*N8+G8*oilPriceP*Q8+J8*OffPeakTariff*T8)/100/SUM(N8,Q8,T8) -> 63.76 | AA8: =(B8*L8*carbonGasPerkWh+E8*O8*carbonOilPerkWh + H8*R8*carbonElectricityPerkWh) -> 552.25717 | AB8: =(C8*M8*carbonGasPerkWh+F8*P8*carbonOilPerkWh + I8*S8*carbonElectricityPerkWh) -> 990.51979 | AC8: =(D8*N8*carbonGasPerkWh+G8*Q8*carbonOilPerkWh + J8*T8*carbonElectricityPerkWh) -> 1269.2754 | AD8: =(B8*L8+E8*O8+H8*R8)/1000 -> 3.0177987 | AE8: =(C8*M8+F8*P8+I8*S8)/1000 -> 5.4126765 | AF8: =(D8*N8+G8*Q8+J8*T8)/1000 -> 6.9359309 | AG8: =ROUND(10000*(C8*M8*gasPricePerkWh+F8*P8*oilPricePerkWh+I8*S8*OffPeakTariff),-3) -> 431390000 | AH8: ='Reducing radiator temp'!T121 -> comfort reduction | AI8: * | AJ8: Multiply
A9: ='Reducing radiator temp'!A122 -> … to Flow 55°C (lower indoor temp) | B9: =ROUND('Reducing radiator temp'!B122,-1) -> 670 | C9: =ROUND('Reducing radiator temp'!C122,-1) -> 1030 | D9: =ROUND('Reducing radiator temp'!D122,-1) -> 1130 | E9: =ROUND('Reducing radiator temp'!E122,-1) -> 0 | F9: =ROUND('Reducing radiator temp'!F122,-1) -> 0 | G9: =ROUND('Reducing radiator temp'!G122,-1) -> 0 | H9: =ROUND('Reducing radiator temp'!H122,-1) -> 0 | I9: =ROUND('Reducing radiator temp'!I122,-1) -> 0 | J9: =ROUND('Reducing radiator temp'!J122,-1) -> 0 | K9: =C9/MeanDomesticGasBill -> 0.10429137 | L9: ='Reducing radiator temp'!K122/1000 -> 5.2456778 | M9: ='Reducing radiator temp'!L122/1000 -> 6.9216086 | N9: ='Reducing radiator temp'!M122/1000 -> 8.8462586 | O9: ='Reducing radiator temp'!N122/1000 -> 0 | P9: ='Reducing radiator temp'!O122/1000 -> 0 | Q9: ='Reducing radiator temp'!P122/1000 -> 0 | R9: ='Reducing radiator temp'!Q122/1000 -> 0 | S9: ='Reducing radiator temp'!R122/1000 -> 0 | T9: ='Reducing radiator temp'!S122/1000 -> 0 | U9: =(L9+O9+R9)/numberDwellingsUK*1000000 -> 0.17113768 | V9: =(M9+P9+S9)/numberDwellingsUK*1000000 -> 0.2258141 | W9: =(N9+Q9+T9)/numberDwellingsUK*1000000 -> 0.28860487 | X9: =(B9*gasPricePerkWh*L9+E9*oilPriceP*O9+H9*OffPeakTariff*R9)/100/SUM(L9,O9,R9) -> 53.399 | Y9: =(C9*gasPricePerkWh*M9+F9*oilPriceP*P9+I9*OffPeakTariff*S9)/100/SUM(M9,P9,S9) -> 82.091 | Z9: =(D9*gasPricePerkWh*N9+G9*oilPriceP*Q9+J9*OffPeakTariff*T9)/100/SUM(N9,Q9,T9) -> 90.061 | AA9: =(B9*L9*carbonGasPerkWh+E9*O9*carbonOilPerkWh + H9*R9*carbonElectricityPerkWh) -> 643.17256 | AB9: =(C9*M9*carbonGasPerkWh+F9*P9*carbonOilPerkWh + I9*S9*carbonElectricityPerkWh) -> 1304.654 | AC9: =(D9*N9*carbonGasPerkWh+G9*Q9*carbonOilPerkWh + J9*T9*carbonElectricityPerkWh) -> 1829.3178 | AD9: =(B9*L9+E9*O9+H9*R9)/1000 -> 3.5146041 | AE9: =(C9*M9+F9*P9+I9*S9)/1000 -> 7.1292569 | AF9: =(D9*N9+G9*Q9+J9*T9)/1000 -> 9.9962723 | AG9: =ROUND(10000*(C9*M9*gasPricePerkWh+F9*P9*oilPricePerkWh+I9*S9*OffPeakTariff),-3) -> 568202000 | AH9: ='Reducing radiator temp'!T122 -> comfort reduction | AI9: * | AJ9: Multiply
A10: Reducing room thermostat (radiator temperature unchanged)
A11: to 19°C | B11: ='Reduce Room Thermostat'!B58 -> 717.20045 | C11: ='Reduce Room Thermostat'!C58 -> 843.76524 | D11: ='Reduce Room Thermostat'!D58 -> 1063.1442 | E11: ='Reduce Room Thermostat'!B59 -> 1204.6044 | F11: ='Reduce Room Thermostat'!C59 -> 1417.1816 | G11: ='Reduce Room Thermostat'!D59 -> 1785.6488 | H11: ='Reduce Room Thermostat'!B60 -> 403.28503 | I11: ='Reduce Room Thermostat'!C60 -> 474.45298 | J11: ='Reduce Room Thermostat'!D60 -> 597.81075 | K11: ='Reduce Room Thermostat'!C53 -> 0.085434404 | L11: =TotalGasBoilers*'Reduce Room Thermostat'!$B17/1000000 -> 10.887088 | M11: =TotalGasBoilers*'Reduce Room Thermostat'!$D17/1000000 -> 11.527505 | N11: =TotalGasBoilers*'Reduce Room Thermostat'!$C17/1000000 -> 12.167922 | O11: =TotalOilBoilers*'Reduce Room Thermostat'!$B17/1000000 -> 0.69576538 | P11: =TotalOilBoilers*'Reduce Room Thermostat'!$D17/1000000 -> 0.73669275 | Q11: =TotalOilBoilers*'Reduce Room Thermostat'!$C17/1000000 -> 0.77762012 | R11: =(TotalStorageHeaters+TotalOtherElectricHeaters)*'Reduce Room Thermostat'!$B17/1000000 -> 0.99321055 | S11: =(TotalStorageHeaters+TotalOtherElectricHeaters)*'Reduce Room Thermostat'!$D17/1000000 -> 1.0516347 | T11: =(TotalStorageHeaters+TotalOtherElectricHeaters)*'Reduce Room Thermostat'!$C17/1000000 -> 1.1100588 | U11: ='Reduce Room Thermostat'!B17 -> 0.425 | V11: ='Reduce Room Thermostat'!D17 -> 0.45 | W11: ='Reduce Room Thermostat'!C17 -> 0.475 | X11: ='Reduce Room Thermostat'!E62 -> 61.901189 | Y11: ='Reduce Room Thermostat'!F62 -> 72.832233 | Z11: ='Reduce Room Thermostat'!G62 -> 92.302735 | AA11: =(B11*L11*carbonGasPerkWh+E11*O11*carbonOilPerkWh + H11*R11*carbonElectricityPerkWh) -> 1726.0949 | AB11: =(C11*M11*carbonGasPerkWh+F11*P11*carbonOilPerkWh + I11*S11*carbonElectricityPerkWh) -> 2150.1528 | AC11: =(D11*N11*carbonGasPerkWh+G11*Q11*carbonOilPerkWh + J11*T11*carbonElectricityPerkWh) -> 2859.7032 | AD11: =(B11*L11+E11*O11+H11*R11)/1000 -> 9.0468936 | AE11: =(C11*M11+F11*P11+I11*S11)/1000 -> 11.269487 | AF11: =(D11*N11+G11*Q11+J11*T11)/1000 -> 14.988418 | AG11: =ROUND(10000*(C11*M11*gasPricePerkWh+F11*P11*oilPricePerkWh+I11*S11*OffPeakTariff),-3) -> 950918000 | AH11: comfort reduction | AI11: ** | AJ11: Multiply
A12: to 18°C | B12: ='Reduce Room Thermostat'!B63 -> 1417.6318 | C12: ='Reduce Room Thermostat'!C63 -> 1667.8022 | D12: ='Reduce Room Thermostat'!D63 -> 2101.4307 | E12: ='Reduce Room Thermostat'!B64 -> 2381.0435 | F12: ='Reduce Room Thermostat'!C64 -> 2801.2277 | G12: ='Reduce Room Thermostat'!D64 -> 3529.5469 | H12: ='Reduce Room Thermostat'!B65 -> 1082.8699 | I12: ='Reduce Room Thermostat'!C65 -> 1273.9646 | J12: ='Reduce Room Thermostat'!D65 -> 1605.1954 | K12: ='Reduce Room Thermostat'!C54 -> 0.16887124 | L12: =TotalGasBoilers*'Reduce Room Thermostat'!$B18/1000000 -> 7.4832532 | M12: =TotalGasBoilers*'Reduce Room Thermostat'!$D18/1000000 -> 7.9234445 | N12: =TotalGasBoilers*'Reduce Room Thermostat'!$C18/1000000 -> 8.3636359 | O12: =TotalOilBoilers*'Reduce Room Thermostat'!$B18/1000000 -> 0.47823516 | P12: =TotalOilBoilers*'Reduce Room Thermostat'!$D18/1000000 -> 0.50636664 | Q12: =TotalOilBoilers*'Reduce Room Thermostat'!$C18/1000000 -> 0.53449812 | R12: =(TotalStorageHeaters+TotalOtherElectricHeaters)*'Reduce Room Thermostat'!$B18/1000000 -> 0.68268446 | S12: =(TotalStorageHeaters+TotalOtherElectricHeaters)*'Reduce Room Thermostat'!$D18/1000000 -> 0.72284237 | T12: =(TotalStorageHeaters+TotalOtherElectricHeaters)*'Reduce Room Thermostat'!$C18/1000000 -> 0.76300028 | U12: =propTherm18OKLow -> 0.29212426 | V12: =propTherm18OKLikely -> 0.30930804 | W12: =propTherm18OKHigh -> 0.32649182 | X12: ='Reduce Room Thermostat'!E67 -> 127.08659 | Y12: ='Reduce Room Thermostat'!F67 -> 149.59837 | Z12: ='Reduce Room Thermostat'!G67 -> 187.97985 | AA12: =(B12*L12*carbonGasPerkWh+E12*O12*carbonOilPerkWh + H12*R12*carbonElectricityPerkWh) -> 2379.6525 | AB12: =(C12*M12*carbonGasPerkWh+F12*P12*carbonOilPerkWh + I12*S12*carbonElectricityPerkWh) -> 2964.273 | AC12: =(D12*N12*carbonGasPerkWh+G12*Q12*carbonOilPerkWh + J12*T12*carbonElectricityPerkWh) -> 3942.4831 | AD12: =(B12*L12+E12*O12+H12*R12)/1000 -> 12.486455 | AE12: =(C12*M12+F12*P12+I12*S12)/1000 -> 15.554062 | AF12: =(D12*N12+G12*Q12+J12*T12)/1000 -> 20.686902 | AG12: =ROUND(10000*(C12*M12*gasPricePerkWh+F12*P12*oilPricePerkWh+I12*S12*OffPeakTariff),-3) -> 1328394000 | AH12: comfort reduction | AI12: ** | AJ12: Multiply
A13: Shorter Heating Season (usually Oct-Apr)
A14: Early finish: October through March | B14: ='Shorter Heating Season'!B38 -> 738.92148 | C14: ='Shorter Heating Season'!C38 -> 821.02387 | D14: ='Shorter Heating Season'!D38 -> 903.12625 | E14: ='Shorter Heating Season'!E38 -> 1241.0868 | F14: ='Shorter Heating Season'!F38 -> 1378.9854 | G14: ='Shorter Heating Season'!G38 -> 1516.8839 | H14: ='Shorter Heating Season'!H38 -> 415.49886 | I14: ='Shorter Heating Season'!I38 -> 461.6654 | J14: ='Shorter Heating Season'!J38 -> 507.83194 | K14: =C14/MeanDomesticGasBill -> 0.083131754 | L14: =TotalGasBoilers* propTolerantShorterHeatingSeasonLow/1000000 -> 7.1776588 | M14: =TotalGasBoilers* propTolerantShorterHeatingSeasonMedium/1000000 -> 8.8038273 | N14: =TotalGasBoilers* propTolerantShorterHeatingSeasonHigh/1000000 -> 10.362697 | O14: =TotalOilBoilers*propTolerantShorterHeatingSeasonLow/1000000 -> 0.45870542 | P14: =TotalOilBoilers*propTolerantShorterHeatingSeasonMedium/1000000 -> 0.5626296 | Q14: =TotalOilBoilers*propTolerantShorterHeatingSeasonHigh/1000000 -> 0.66225291 | R14: =TotalDomesticElecHeating*propTolerantShorterHeatingSeasonLow/1000000 -> 0.6548056 | S14: =TotalDomesticElecHeating*propTolerantShorterHeatingSeasonMedium/1000000 -> 0.80315819 | T14: =TotalDomesticElecHeating*propTolerantShorterHeatingSeasonHigh/1000000 -> 0.94537124 | U14: =propTolerantShorterHeatingSeasonLow -> 0.28019475 | V14: =propTolerantShorterHeatingSeasonMedium -> 0.3436756 | W14: =propTolerantShorterHeatingSeasonHigh -> 0.40452931 | X14: =(B14*gasPricePerkWh*L14+E14*oilPriceP*O14+H14*OffPeakTariff*R14)/100/SUM(L14,O14,R14) -> 62.539041 | Y14: =(C14*gasPricePerkWh*M14+F14*oilPriceP*P14+I14*OffPeakTariff*S14)/100/SUM(M14,P14,S14) -> 69.487823 | Z14: =(D14*gasPricePerkWh*N14+G14*oilPriceP*Q14+J14*OffPeakTariff*T14)/100/SUM(N14,Q14,T14) -> 76.436606 | AA14: =(B14*L14*carbonGasPerkWh+E14*O14*carbonOilPerkWh + H14*R14*carbonElectricityPerkWh) -> 1172.4477 | AB14: =(C14*M14*carbonGasPerkWh+F14*P14*carbonOilPerkWh + I14*S14*carbonElectricityPerkWh) -> 1597.8634 | AC14: =(D14*N14*carbonGasPerkWh+G14*Q14*carbonOilPerkWh + J14*T14*carbonElectricityPerkWh) -> 2068.8721 | AD14: =(B14*L14+E14*O14+H14*R14)/1000 -> 6.1450905 | AE14: =(C14*M14+F14*P14+I14*S14)/1000 -> 8.3748007 | AF14: =(D14*N14+G14*Q14+J14*T14)/1000 -> 10.843474 | AG14: =ROUND(10000*(C14*M14*gasPricePerkWh+F14*P14*oilPricePerkWh+I14*S14*OffPeakTariff),-3) -> 706664000 | AH14: comfort reduction | AI14: * | AJ14: Multiply
A15: Later start: November through April | B15: ='Shorter Heating Season'!B39 -> 536.23056 | C15: ='Shorter Heating Season'!C39 -> 595.81173 | D15: ='Shorter Heating Season'!D39 -> 655.3929 | E15: ='Shorter Heating Season'!E39 -> 900.64873 | F15: ='Shorter Heating Season'!F39 -> 1000.7208 | G15: ='Shorter Heating Season'!G39 -> 1100.7929 | H15: ='Shorter Heating Season'!H39 -> 301.52485 | I15: ='Shorter Heating Season'!I39 -> 335.02761 | J15: ='Shorter Heating Season'!J39 -> 368.53037 | K15: =C15/MeanDomesticGasBill -> 0.060328178 | L15: =TotalGasBoilers* propTolerantShorterHeatingSeasonLow/1000000 -> 7.1776588 | M15: =TotalGasBoilers* propTolerantShorterHeatingSeasonMedium/1000000 -> 8.8038273 | N15: =TotalGasBoilers* propTolerantShorterHeatingSeasonHigh/1000000 -> 10.362697 | O15: =TotalOilBoilers*propTolerantShorterHeatingSeasonLow/1000000 -> 0.45870542 | P15: =TotalOilBoilers*propTolerantShorterHeatingSeasonMedium/1000000 -> 0.5626296 | Q15: =TotalOilBoilers*propTolerantShorterHeatingSeasonHigh/1000000 -> 0.66225291 | R15: =TotalDomesticElecHeating*propTolerantShorterHeatingSeasonLow/1000000 -> 0.6548056 | S15: =TotalDomesticElecHeating*propTolerantShorterHeatingSeasonMedium/1000000 -> 0.80315819 | T15: =TotalDomesticElecHeating*propTolerantShorterHeatingSeasonHigh/1000000 -> 0.94537124 | U15: =propTolerantShorterHeatingSeasonLow -> 0.28019475 | V15: =propTolerantShorterHeatingSeasonMedium -> 0.3436756 | W15: =propTolerantShorterHeatingSeasonHigh -> 0.40452931 | X15: =(B15*gasPricePerkWh*L15+E15*oilPriceP*O15+H15*OffPeakTariff*R15)/100/SUM(L15,O15,R15) -> 45.384179 | Y15: =(C15*gasPricePerkWh*M15+F15*oilPriceP*P15+I15*OffPeakTariff*S15)/100/SUM(M15,P15,S15) -> 50.426866 | Z15: =(D15*gasPricePerkWh*N15+G15*oilPriceP*Q15+J15*OffPeakTariff*T15)/100/SUM(N15,Q15,T15) -> 55.469552 | AA15: =(B15*L15*carbonGasPerkWh+E15*O15*carbonOilPerkWh + H15*R15*carbonElectricityPerkWh) -> 850.83771 | AB15: =(C15*M15*carbonGasPerkWh+F15*P15*carbonOilPerkWh + I15*S15*carbonElectricityPerkWh) -> 1159.5592 | AC15: =(D15*N15*carbonGasPerkWh+G15*Q15*carbonOilPerkWh + J15*T15*carbonElectricityPerkWh) -> 1501.3671 | AD15: =(B15*L15+E15*O15+H15*R15)/1000 -> 4.4594526 | AE15: =(C15*M15+F15*P15+I15*S15)/1000 -> 6.0775389 | AF15: =(D15*N15+G15*Q15+J15*T15)/1000 -> 7.8690395 | AG15: =ROUND(10000*(C15*M15*gasPricePerkWh+F15*P15*oilPricePerkWh+I15*S15*OffPeakTariff),-3) -> 512822000 | AH15: comfort reduction | AI15: * | AJ15: Multiply
A16: Later start and early finish: November through March | B16: ='Shorter Heating Season'!B40 -> 1275.152 | C16: ='Shorter Heating Season'!C40 -> 1416.8356 | D16: ='Shorter Heating Season'!D40 -> 1558.5192 | E16: ='Shorter Heating Season'!E40 -> 2141.7356 | F16: ='Shorter Heating Season'!F40 -> 2379.7062 | G16: ='Shorter Heating Season'!G40 -> 2617.6768 | H16: ='Shorter Heating Season'!H40 -> 717.02371 | I16: ='Shorter Heating Season'!I40 -> 796.69301 | J16: ='Shorter Heating Season'!J40 -> 876.36231 | K16: =C16/MeanDomesticGasBill -> 0.14345993 | L16: =TotalGasBoilers* propTolerantShorterHeatingSeasonLow/1000000 -> 7.1776588 | M16: =TotalGasBoilers* propTolerantShorterHeatingSeasonMedium/1000000 -> 8.8038273 | N16: =TotalGasBoilers* propTolerantShorterHeatingSeasonHigh/1000000 -> 10.362697 | O16: =TotalOilBoilers*propTolerantShorterHeatingSeasonLow/1000000 -> 0.45870542 | P16: =TotalOilBoilers*propTolerantShorterHeatingSeasonMedium/1000000 -> 0.5626296 | Q16: =TotalOilBoilers*propTolerantShorterHeatingSeasonHigh/1000000 -> 0.66225291 | R16: =TotalDomesticElecHeating*propTolerantShorterHeatingSeasonLow/1000000 -> 0.6548056 | S16: =TotalDomesticElecHeating*propTolerantShorterHeatingSeasonMedium/1000000 -> 0.80315819 | T16: =TotalDomesticElecHeating*propTolerantShorterHeatingSeasonHigh/1000000 -> 0.94537124 | U16: =propTolerantShorterHeatingSeasonLow -> 0.28019475 | V16: =propTolerantShorterHeatingSeasonMedium -> 0.3436756 | W16: =propTolerantShorterHeatingSeasonHigh -> 0.40452931 | X16: =(B16*gasPricePerkWh*L16+E16*oilPriceP*O16+H16*OffPeakTariff*R16)/100/SUM(L16,O16,R16) -> 107.92322 | Y16: =(C16*gasPricePerkWh*M16+F16*oilPriceP*P16+I16*OffPeakTariff*S16)/100/SUM(M16,P16,S16) -> 119.91469 | Z16: =(D16*gasPricePerkWh*N16+G16*oilPriceP*Q16+J16*OffPeakTariff*T16)/100/SUM(N16,Q16,T16) -> 131.90616 | AA16: =(B16*L16*carbonGasPerkWh+E16*O16*carbonOilPerkWh + H16*R16*carbonElectricityPerkWh) -> 2023.2854 | AB16: =(C16*M16*carbonGasPerkWh+F16*P16*carbonOilPerkWh + I16*S16*carbonElectricityPerkWh) -> 2757.4226 | AC16: =(D16*N16*carbonGasPerkWh+G16*Q16*carbonOilPerkWh + J16*T16*carbonElectricityPerkWh) -> 3570.2392 | AD16: =(B16*L16+E16*O16+H16*R16)/1000 -> 10.604543 | AE16: =(C16*M16+F16*P16+I16*S16)/1000 -> 14.45234 | AF16: =(D16*N16+G16*Q16+J16*T16)/1000 -> 18.712514 | AG16: =ROUND(10000*(C16*M16*gasPricePerkWh+F16*P16*oilPricePerkWh+I16*S16*OffPeakTariff),-3) -> 1219486000 | AH16: comfort reduction | AI16: * | AJ16: Multiply
A17: Draught stripping
A18: Doors | B18: ='Draught Stripping'!B49 -> 0 | C18: ='Draught Stripping'!C49 -> 73.870587 | D18: ='Draught Stripping'!D49 -> 147.74117 | E18: ='Draught Stripping'!E49 -> 0 | F18: ='Draught Stripping'!F49 -> 124.07247 | G18: ='Draught Stripping'!G49 -> 248.14494 | H18: ='Draught Stripping'!H49 -> 0 | I18: ='Draught Stripping'!I49 -> 41.537762 | J18: ='Draught Stripping'!J49 -> 83.075525 | K18: =C18/MeanDomesticGasBill -> 0.0074796748 | L18: ='Draught Stripping'!K49 -> 8.8620747 | M18: ='Draught Stripping'!L49 -> 11.077593 | N18: ='Draught Stripping'!M49 -> 12.185353 | O18: ='Draught Stripping'!N49 -> 0.56635204 | P18: ='Draught Stripping'!O49 -> 0.70794005 | Q18: ='Draught Stripping'!P49 -> 0.77873406 | R18: ='Draught Stripping'!Q49 -> 0.808472 | S18: ='Draught Stripping'!R49 -> 1.01059 | T18: ='Draught Stripping'!S49 -> 1.111649 | U18: =(L18+O18+R18)/numberDwellingsUK*1000000 -> 0.33397382 | V18: =(M18+P18+S18)/numberDwellingsUK*1000000 -> 0.41746727 | W18: =(N18+Q18+T18)/numberDwellingsUK*1000000 -> 0.459214 | X18: =(B18*gasPricePerkWh*L18+E18*oilPriceP*O18+H18*OffPeakTariff*R18)/100/SUM(L18,O18,R18) -> 0 | Y18: =(C18*gasPricePerkWh*M18+F18*oilPriceP*P18+I18*OffPeakTariff*S18)/100/SUM(M18,P18,S18) -> 6.2520793 | Z18: =(D18*gasPricePerkWh*N18+G18*oilPriceP*Q18+J18*OffPeakTariff*T18)/100/SUM(N18,Q18,T18) -> 12.504159 | AA18: =(B18*L18*carbonGasPerkWh+E18*O18*carbonOilPerkWh + H18*R18*carbonElectricityPerkWh) -> 0 | AB18: =(C18*M18*carbonGasPerkWh+F18*P18*carbonOilPerkWh + I18*S18*carbonElectricityPerkWh) -> 180.89615 | AC18: =(D18*N18*carbonGasPerkWh+G18*Q18*carbonOilPerkWh + J18*T18*carbonElectricityPerkWh) -> 397.97154 | AD18: =(B18*L18+E18*O18+H18*R18)/1000 -> 0 | AE18: =(C18*M18+F18*P18+I18*S18)/1000 -> 0.94812185 | AF18: =(D18*N18+G18*Q18+J18*T18)/1000 -> 2.0858681 | AG18: =ROUND(10000*(C18*M18*gasPricePerkWh+F18*P18*oilPricePerkWh+I18*S18*OffPeakTariff),-3) -> 80002000 | AH18: medium | AI18: * | AJ18: Multiply
A19: Windows | B19: ='Draught Stripping'!B50 -> 0 | C19: ='Draught Stripping'!C50 -> 321.17647 | D19: ='Draught Stripping'!D50 -> 642.35293 | E19: ='Draught Stripping'!E50 -> 0 | F19: ='Draught Stripping'!F50 -> 539.44553 | G19: ='Draught Stripping'!G50 -> 1078.8911 | H19: ='Draught Stripping'!H50 -> 0 | I19: ='Draught Stripping'!I50 -> 180.59897 | J19: ='Draught Stripping'!J50 -> 361.19793 | K19: =C19/MeanDomesticGasBill -> 0.032520325 | L19: ='Draught Stripping'!K50 -> 8.8620747 | M19: ='Draught Stripping'!L50 -> 11.077593 | N19: ='Draught Stripping'!M50 -> 12.185353 | O19: ='Draught Stripping'!N50 -> 0.56635204 | P19: ='Draught Stripping'!O50 -> 0.70794005 | Q19: ='Draught Stripping'!P50 -> 0.77873406 | R19: ='Draught Stripping'!Q50 -> 0.808472 | S19: ='Draught Stripping'!R50 -> 1.01059 | T19: ='Draught Stripping'!S50 -> 1.111649 | U19: =(L19+O19+R19)/numberDwellingsUK*1000000 -> 0.33397382 | V19: =(M19+P19+S19)/numberDwellingsUK*1000000 -> 0.41746727 | W19: =(N19+Q19+T19)/numberDwellingsUK*1000000 -> 0.459214 | X19: =(B19*gasPricePerkWh*L19+E19*oilPriceP*O19+H19*OffPeakTariff*R19)/100/SUM(L19,O19,R19) -> 0 | Y19: =(C19*gasPricePerkWh*M19+F19*oilPriceP*P19+I19*OffPeakTariff*S19)/100/SUM(M19,P19,S19) -> 27.182954 | Z19: =(D19*gasPricePerkWh*N19+G19*oilPriceP*Q19+J19*OffPeakTariff*T19)/100/SUM(N19,Q19,T19) -> 54.365907 | AA19: =(B19*L19*carbonGasPerkWh+E19*O19*carbonOilPerkWh + H19*R19*carbonElectricityPerkWh) -> 0 | AB19: =(C19*M19*carbonGasPerkWh+F19*P19*carbonOilPerkWh + I19*S19*carbonElectricityPerkWh) -> 786.50501 | AC19: =(D19*N19*carbonGasPerkWh+G19*Q19*carbonOilPerkWh + J19*T19*carbonElectricityPerkWh) -> 1730.311 | AD19: =(B19*L19+E19*O19+H19*R19)/1000 -> 0 | AE19: =(C19*M19+F19*P19+I19*S19)/1000 -> 4.1222689 | AF19: =(D19*N19+G19*Q19+J19*T19)/1000 -> 9.0689916 | AG19: =ROUND(10000*(C19*M19*gasPricePerkWh+F19*P19*oilPricePerkWh+I19*S19*OffPeakTariff),-3) -> 347836000 | AH19: medium | AI19: * | AJ19: Multiply
A20: Doors and windows* | B20: ='Draught Stripping'!B51 -> 0 | C20: ='Draught Stripping'!C51 -> 395.04705 | D20: ='Draught Stripping'!D51 -> 790.09411 | E20: ='Draught Stripping'!E51 -> 0 | F20: ='Draught Stripping'!F51 -> 663.518 | G20: ='Draught Stripping'!G51 -> 1327.036 | H20: ='Draught Stripping'!H51 -> 0 | I20: ='Draught Stripping'!I51 -> 222.13673 | J20: ='Draught Stripping'!J51 -> 444.27346 | K20: =C20/MeanDomesticGasBill -> 0.04 | L20: =L19 -> 8.8620747 | M20: =M19 -> 11.077593 | N20: =N19 -> 12.185353 | O20: =O19 -> 0.56635204 | P20: =P19 -> 0.70794005 | Q20: =Q19 -> 0.77873406 | R20: =R19 -> 0.808472 | S20: =S19 -> 1.01059 | T20: =T19 -> 1.111649 | U20: =(L20+O20+R20)/numberDwellingsUK*1000000 -> 0.33397382 | V20: =(M20+P20+S20)/numberDwellingsUK*1000000 -> 0.41746727 | W20: =(N20+Q20+T20)/numberDwellingsUK*1000000 -> 0.459214 | X20: =(B20*gasPricePerkWh*L20+E20*oilPriceP*O20+H20*OffPeakTariff*R20)/100/SUM(L20,O20,R20) -> 0 | Y20: =(C20*gasPricePerkWh*M20+F20*oilPriceP*P20+I20*OffPeakTariff*S20)/100/SUM(M20,P20,S20) -> 33.435033 | Z20: =(D20*gasPricePerkWh*N20+G20*oilPriceP*Q20+J20*OffPeakTariff*T20)/100/SUM(N20,Q20,T20) -> 66.870066 | AA20: =(B20*L20*carbonGasPerkWh+E20*O20*carbonOilPerkWh + H20*R20*carbonElectricityPerkWh) -> 0 | AB20: =(C20*M20*carbonGasPerkWh+F20*P20*carbonOilPerkWh + I20*S20*carbonElectricityPerkWh) -> 967.40116 | AC20: =(D20*N20*carbonGasPerkWh+G20*Q20*carbonOilPerkWh + J20*T20*carbonElectricityPerkWh) -> 2128.2826 | AD20: =(B20*L20+E20*O20+H20*R20)/1000 -> 0 | AE20: =(C20*M20+F20*P20+I20*S20)/1000 -> 5.0703907 | AF20: =(D20*N20+G20*Q20+J20*T20)/1000 -> 11.15486 | AG20: =ROUND(10000*(C20*M20*gasPricePerkWh+F20*P20*oilPricePerkWh+I20*S20*OffPeakTariff),-3) -> 427839000 | AH20: high | AI20: * | AJ20: Multiply
A21: ='Reduce heating hours'!A65 -> Reducing hours of heating by 5 hours/week (set and forget) | B21: =ROUND('Reduce heating hours'!B65,-1) -> 100 | C21: =ROUND('Reduce heating hours'!C65,-1) -> 120 | D21: =ROUND('Reduce heating hours'!D65,-1) -> 160 | E21: =ROUND('Reduce heating hours'!E65,-1) -> 220 | F21: =ROUND('Reduce heating hours'!F65,-1) -> 280 | G21: =ROUND('Reduce heating hours'!G65,-1) -> 360 | H21: =ROUND('Reduce heating hours'!H65,-1) -> 20 | I21: =ROUND('Reduce heating hours'!I65,-1) -> 40 | J21: =ROUND('Reduce heating hours'!J65,-1) -> 50 | K21: =C21/MeanDomesticGasBill -> 0.012150451 | L21: ='Reduce heating hours'!K65/1000 -> 2.5616678 | M21: ='Reduce heating hours'!L65/1000 -> 5.1233357 | N21: ='Reduce heating hours'!M65/1000 -> 7.6850035 | O21: ='Reduce heating hours'!N65/1000 -> 0.1637095 | P21: ='Reduce heating hours'!O65/1000 -> 0.327419 | Q21: ='Reduce heating hours'!P65/1000 -> 0.4911285 | R21: ='Reduce heating hours'!Q65/1000 -> 0.090065892 | S21: ='Reduce heating hours'!R65/1000 -> 0.18013178 | T21: ='Reduce heating hours'!S65/1000 -> 0.27019768 | U21: =(L21+O21+R21)/numberDwellingsUK*1000000 -> 0.09185246 | V21: =(M21+P21+S21)/numberDwellingsUK*1000000 -> 0.18370492 | W21: =(N21+Q21+T21)/numberDwellingsUK*1000000 -> 0.27555738 | X21: =(B21*gasPricePerkWh*L21+E21*oilPriceP*O21+H21*OffPeakTariff*R21)/100/SUM(L21,O21,R21) -> 8.5835529 | Y21: =(C21*gasPricePerkWh*M21+F21*oilPriceP*P21+I21*OffPeakTariff*S21)/100/SUM(M21,P21,S21) -> 10.466928 | Z21: =(D21*gasPricePerkWh*N21+G21*oilPriceP*Q21+J21*OffPeakTariff*T21)/100/SUM(N21,Q21,T21) -> 13.865002 | AA21: =(B21*L21*carbonGasPerkWh+E21*O21*carbonOilPerkWh + H21*R21*carbonElectricityPerkWh) -> 56.921699 | AB21: =(C21*M21*carbonGasPerkWh+F21*P21*carbonOilPerkWh + I21*S21*carbonElectricityPerkWh) -> 138.53666 | AC21: =(D21*N21*carbonGasPerkWh+G21*Q21*carbonOilPerkWh + J21*T21*carbonElectricityPerkWh) -> 275.14584 | AD21: =(B21*L21+E21*O21+H21*R21)/1000 -> 0.29398419 | AE21: =(C21*M21+F21*P21+I21*S21)/1000 -> 0.71368287 | AF21: =(D21*N21+G21*Q21+J21*T21)/1000 -> 1.4199167 | AG21: =ROUND(10000*(C21*M21*gasPricePerkWh+F21*P21*oilPricePerkWh+I21*S21*OffPeakTariff),-3) -> 58938000 | AH21: ='Reduce heating hours'!K59 -> - | AI21: ** | AJ21: Multiply
A22: ='Turn off pre-heat'!A40 -> Turn off pre-heat facility | B22: ='Turn off pre-heat'!B40 -> 2.5735294 | C22: ='Turn off pre-heat'!C40 -> 92.647059 | D22: ='Turn off pre-heat'!D40 -> 466.66667 | E22: ='Turn off pre-heat'!E40 -> 0 | F22: ='Turn off pre-heat'!F40 -> 0 | G22: ='Turn off pre-heat'!G40 -> 0 | H22: ='Turn off pre-heat'!H40 -> 0 | ... J22: ='Turn off pre-heat'!J40 -> 0 | K22: =C22/MeanDomesticGasBill -> 0.0093808632 | L22: ='Turn off pre-heat'!K40/1000 -> 3.3096748 | M22: ='Turn off pre-heat'!L40/1000 -> 6.9677365 | N22: ='Turn off pre-heat'!M40/1000 -> 10.974185 | O22: ='Turn off pre-heat'!N40/1000 -> 0 | P22: ='Turn off pre-heat'!O40/1000 -> 0 | Q22: ='Turn off pre-heat'!P40/1000 -> 0 | R22: ='Turn off pre-heat'!Q40/1000 -> 0 | S22: ='Turn off pre-heat'!R40/1000 -> 0 | T22: ='Turn off pre-heat'!S40/1000 -> 0 | U22: =(L22+O22+R22)/numberDwellingsUK*1000000 -> 0.10797653 | V22: =(M22+P22+S22)/numberDwellingsUK*1000000 -> 0.227319 | W22: =(N22+Q22+T22)/numberDwellingsUK*1000000 -> 0.35802743 | X22: =(B22*gasPricePerkWh*L22+E22*oilPriceP*O22+H22*OffPeakTariff*R22)/100/SUM(L22,O22,R22) -> 0.20511029 | Y22: =(C22*gasPricePerkWh*M22+F22*oilPriceP*P22+I22*OffPeakTariff*S22)/100/SUM(M22,P22,S22) -> 7.3839706 | Z22: =(D22*gasPricePerkWh*N22+G22*oilPriceP*Q22+J22*OffPeakTariff*T22)/100/SUM(N22,Q22,T22) -> 37.193333 | AA22: =(B22*L22*carbonGasPerkWh+E22*O22*carbonOilPerkWh + H22*R22*carbonElectricityPerkWh) -> 1.5587108 | AB22: =(C22*M22*carbonGasPerkWh+F22*P22*carbonOilPerkWh + I22*S22*carbonElectricityPerkWh) -> 118.13387 | AC22: =(D22*N22*carbonGasPerkWh+G22*Q22*carbonOilPerkWh + J22*T22*carbonElectricityPerkWh) -> 937.1954 | AD22: =(B22*L22+E22*O22+H22*R22)/1000 -> 0.0085175456 | AE22: =(C22*M22+F22*P22+I22*S22)/1000 -> 0.6455403 | AF22: =(D22*N22+G22*Q22+J22*T22)/1000 -> 5.1212863 | AG22: =ROUND(10000*(C22*M22*gasPricePerkWh+F22*P22*oilPricePerkWh+I22*S22*OffPeakTariff),-3) -> 51450000 | AH22: ='Turn off pre-heat'!T40 -> - | AI22: ** | AJ22: Add
A23: ='Turn off pre-heat'!A41 -> Adjust timer for pre-heat | B23: ='Turn off pre-heat'!B41 -> 1.8014706 | C23: ='Turn off pre-heat'!C41 -> 46.323529 | D23: ='Turn off pre-heat'!D41 -> 140 | E23: ='Turn off pre-heat'!E41 -> 0 | F23: ='Turn off pre-heat'!F41 -> 0 | G23: ='Turn off pre-heat'!G41 -> 0 | H23: ='Turn off pre-heat'!H41 -> 0 | ... J23: ='Turn off pre-heat'!J41 -> 0 | K23: =C23/MeanDomesticGasBill -> 0.0046904316 | L23: ='Turn off pre-heat'!K41/1000 -> 0.16548374 | M23: ='Turn off pre-heat'!L41/1000 -> 0.69677365 | N23: ='Turn off pre-heat'!M41/1000 -> 2.194837 | O23: ='Turn off pre-heat'!N41/1000 -> 0 | P23: ='Turn off pre-heat'!O41/1000 -> 0 | Q23: ='Turn off pre-heat'!P41/1000 -> 0 | R23: ='Turn off pre-heat'!Q41/1000 -> 0 | S23: ='Turn off pre-heat'!R41/1000 -> 0 | T23: ='Turn off pre-heat'!S41/1000 -> 0 | U23: =(L23+O23+R23)/numberDwellingsUK*1000000 -> 0.0053988262 | V23: =(M23+P23+S23)/numberDwellingsUK*1000000 -> 0.0227319 | W23: =(N23+Q23+T23)/numberDwellingsUK*1000000 -> 0.071605485 | X23: =(B23*gasPricePerkWh*L23+E23*oilPriceP*O23+H23*OffPeakTariff*R23)/100/SUM(L23,O23,R23) -> 0.14357721 | Y23: =(C23*gasPricePerkWh*M23+F23*oilPriceP*P23+I23*OffPeakTariff*S23)/100/SUM(M23,P23,S23) -> 3.6919853 | Z23: =(D23*gasPricePerkWh*N23+G23*oilPriceP*Q23+J23*OffPeakTariff*T23)/100/SUM(N23,Q23,T23) -> 11.158 | AA23: =(B23*L23*carbonGasPerkWh+E23*O23*carbonOilPerkWh + H23*R23*carbonElectricityPerkWh) -> 0.054554879 | AB23: =(C23*M23*carbonGasPerkWh+F23*P23*carbonOilPerkWh + I23*S23*carbonElectricityPerkWh) -> 5.9066937 | AC23: =(D23*N23*carbonGasPerkWh+G23*Q23*carbonOilPerkWh + J23*T23*carbonElectricityPerkWh) -> 56.231724 | AD23: =(B23*L23+E23*O23+H23*R23)/1000 -> 0.00029811409 | AE23: =(C23*M23+F23*P23+I23*S23)/1000 -> 0.032277015 | AF23: =(D23*N23+G23*Q23+J23*T23)/1000 -> 0.30727718 | AG23: =ROUND(10000*(C23*M23*gasPricePerkWh+F23*P23*oilPricePerkWh+I23*S23*OffPeakTariff),-3) -> 2572000 | AH23: ='Turn off pre-heat'!T41 -> - | AI23: ** | AJ23: Add | AO23: ='Turn off pre-heat'!T40 -> -
A24: ='Reducing DHW temp. (cylinder)'!A49 -> Reducing the cylinder temperature to 60°C | B24: =ROUND('Reducing DHW temp. (cylinder)'!B49,-1) -> 80 | C24: =ROUND('Reducing DHW temp. (cylinder)'!C49,-1) -> 230 | D24: =ROUND('Reducing DHW temp. (cylinder)'!D49,-1) -> 390 | E24: =ROUND('Reducing DHW temp. (cylinder)'!E49,-1) -> 230 | F24: =ROUND('Reducing DHW temp. (cylinder)'!F49,-1) -> 430 | G24: =ROUND('Reducing DHW temp. (cylinder)'!G49,-1) -> 590 | H24: =ROUND('Reducing DHW temp. (cylinder)'!H49,-1) -> 0 | I24: =ROUND('Reducing DHW temp. (cylinder)'!I49,-1) -> 0 | J24: =ROUND('Reducing DHW temp. (cylinder)'!J49,-1) -> 0 | K24: =C24/MeanDomesticGasBill -> 0.023288365 | L24: ='Reducing DHW temp. (cylinder)'!K49/1000 -> 3.8937351 | M24: ='Reducing DHW temp. (cylinder)'!L49/1000 -> 6.5578697 | N24: ='Reducing DHW temp. (cylinder)'!M49/1000 -> 8.5662173 | O24: ='Reducing DHW temp. (cylinder)'!N49/1000 -> 0.6065437 | P24: ='Reducing DHW temp. (cylinder)'!O49/1000 -> 1.0215473 | Q24: ='Reducing DHW temp. (cylinder)'!P49/1000 -> 1.3343961 | R24: ='Reducing DHW temp. (cylinder)'!Q49/1000 -> 0 | S24: ='Reducing DHW temp. (cylinder)'!R49/1000 -> 0 | T24: ='Reducing DHW temp. (cylinder)'!S49/1000 -> 0 | U24: =(L24+O24+R24)/numberDwellingsUK*1000000 -> 0.1468194 | V24: =(M24+P24+S24)/numberDwellingsUK*1000000 -> 0.24727478 | W24: =(N24+Q24+T24)/numberDwellingsUK*1000000 -> 0.32300267 | X24: =(B24*gasPricePerkWh*L24+E24*oilPriceP*O24+H24*OffPeakTariff*R24)/100/SUM(L24,O24,R24) -> 8.5117402 | Y24: =(C24*gasPricePerkWh*M24+F24*oilPriceP*P24+I24*OffPeakTariff*S24)/100/SUM(M24,P24,S24) -> 21.459883 | Z24: =(D24*gasPricePerkWh*N24+G24*oilPriceP*Q24+J24*OffPeakTariff*T24)/100/SUM(N24,Q24,T24) -> 34.576722 | AA24: =(B24*L24*carbonGasPerkWh+E24*O24*carbonOilPerkWh + H24*R24*carbonElectricityPerkWh) -> 94.670646 | AB24: =(C24*M24*carbonGasPerkWh+F24*P24*carbonOilPerkWh + I24*S24*carbonElectricityPerkWh) -> 394.62237 | AC24: =(D24*N24*carbonGasPerkWh+G24*Q24*carbonOilPerkWh + J24*T24*carbonElectricityPerkWh) -> 823.94023 | AD24: =(B24*L24+E24*O24+H24*R24)/1000 -> 0.45100386 | AE24: =(C24*M24+F24*P24+I24*S24)/1000 -> 1.9475754 | AF24: =(D24*N24+G24*Q24+J24*T24)/1000 -> 4.1281184 | AG24: =ROUND(10000*(C24*M24*gasPricePerkWh+F24*P24*oilPricePerkWh+I24*S24*OffPeakTariff),-3) -> 162653000 | AH24: ='Reducing DHW temp. (cylinder)'!T49 -> - | AI24: ** | AJ24: Add
